BEGIN:VCALENDAR
VERSION:2.0
PRODID:-//Lübecker Reiterverein - ECPv6.15.17//NONSGML v1.0//EN
CALSCALE:GREGORIAN
METHOD:PUBLISH
X-WR-CALNAME:Lübecker Reiterverein
X-ORIGINAL-URL:https://luebecker-reiterverein.de
X-WR-CALDESC:Veranstaltungen für Lübecker Reiterverein
REFRESH-INTERVAL;VALUE=DURATION:PT1H
X-Robots-Tag:noindex
X-PUBLISHED-TTL:PT1H
BEGIN:VTIMEZONE
TZID:Europe/Berlin
BEGIN:DAYLIGHT
TZOFFSETFROM:+0100
TZOFFSETTO:+0200
TZNAME:CEST
DTSTART:20240331T010000
END:DAYLIGHT
BEGIN:STANDARD
TZOFFSETFROM:+0200
TZOFFSETTO:+0100
TZNAME:CET
DTSTART:20241027T010000
END:STANDARD
BEGIN:DAYLIGHT
TZOFFSETFROM:+0100
TZOFFSETTO:+0200
TZNAME:CEST
DTSTART:20250330T010000
END:DAYLIGHT
BEGIN:STANDARD
TZOFFSETFROM:+0200
TZOFFSETTO:+0100
TZNAME:CET
DTSTART:20251026T010000
END:STANDARD
BEGIN:DAYLIGHT
TZOFFSETFROM:+0100
TZOFFSETTO:+0200
TZNAME:CEST
DTSTART:20260329T010000
END:DAYLIGHT
BEGIN:STANDARD
TZOFFSETFROM:+0200
TZOFFSETTO:+0100
TZNAME:CET
DTSTART:20261025T010000
END:STANDARD
END:VTIMEZONE
BEGIN:VEVENT
DTSTART;TZID=Europe/Berlin:20250930T170000
DTEND;TZID=Europe/Berlin:20250930T203000
DTSTAMP:20260421T075901
CREATED:20250708T115153Z
LAST-MODIFIED:20250818T094040Z
UID:3192-1759251600-1759264200@luebecker-reiterverein.de
SUMMARY:Ausbilder-Seminar mit Hans-Heinrich Meyer zu Strohen
DESCRIPTION:Thema des Seminars ist: „Die nächste Klasse: Der Weg von der L zur M Dressur“ \n \nSeminar Flyer
URL:https://luebecker-reiterverein.de/event/ausbilder-seminar-mit-hans-heinrich-meyer-zu-strohen/
LOCATION:Lübecker Reiterverein e.V.\, Am Rittbrook 25\, Lübeck\, Schleswig-Holstein\, 23566\, Germany
END:VEVENT
END:VCALENDAR