BEGIN:VCALENDAR
VERSION:2.0
PRODID:-//Lübecker Reiterverein - ECPv6.15.17//NONSGML v1.0//EN
CALSCALE:GREGORIAN
METHOD:PUBLISH
X-ORIGINAL-URL:https://luebecker-reiterverein.de
X-WR-CALDESC:Veranstaltungen für Lübecker Reiterverein
REFRESH-INTERVAL;VALUE=DURATION:PT1H
X-Robots-Tag:noindex
X-PUBLISHED-TTL:PT1H
BEGIN:VTIMEZONE
TZID:Europe/Berlin
BEGIN:DAYLIGHT
TZOFFSETFROM:+0100
TZOFFSETTO:+0200
TZNAME:CEST
DTSTART:20240331T010000
END:DAYLIGHT
BEGIN:STANDARD
TZOFFSETFROM:+0200
TZOFFSETTO:+0100
TZNAME:CET
DTSTART:20241027T010000
END:STANDARD
BEGIN:DAYLIGHT
TZOFFSETFROM:+0100
TZOFFSETTO:+0200
TZNAME:CEST
DTSTART:20250330T010000
END:DAYLIGHT
BEGIN:STANDARD
TZOFFSETFROM:+0200
TZOFFSETTO:+0100
TZNAME:CET
DTSTART:20251026T010000
END:STANDARD
BEGIN:DAYLIGHT
TZOFFSETFROM:+0100
TZOFFSETTO:+0200
TZNAME:CEST
DTSTART:20260329T010000
END:DAYLIGHT
BEGIN:STANDARD
TZOFFSETFROM:+0200
TZOFFSETTO:+0100
TZNAME:CET
DTSTART:20261025T010000
END:STANDARD
END:VTIMEZONE
BEGIN:VEVENT
DTSTART;TZID=Europe/Berlin:20250308T200000
DTEND;TZID=Europe/Berlin:20250308T200000
DTSTAMP:20260420T224840
CREATED:20250115T142156Z
LAST-MODIFIED:20250225T171631Z
UID:2914-1741464000-1741464000@luebecker-reiterverein.de
SUMMARY:Reiterball des Reiterbundes Lübeck
DESCRIPTION:Reiterball2025 Anmeldung \nLiebe Reiterinnen\, Reiter und Pferdesportbegeisterte\,\nwir freuen uns\, euch herzlich zu unserem Reiterball am 08. März 2025 um 20:00 Uhr in\nder Gemeinnützigen/Restaurant Meilenstein\, Königsstraße 5\, 23552 Lübeck einzuladen! \nEine Teilnahme an der Veranstaltung ab 20:00 Uhr mit DJ\, aber ohne Essen ist nur mit Voranmeldung und\nvorheriger Überweisung des Betrages von:\n 40\,00 € für Erwachsene\n 30\,00 € für Jugendliche (bis 21 Jahre)\nmöglich. Es wird jeweils runde 8er Tische für max. 10 Personen geben. Eine Abendkasse wird es in diesem Jahr nicht geben.\nMit dem beiliegenden Vordruck bitten wir um  Anmeldung bis zum 05. März 2025 \,\nsowie Überweisung des Betrages auf das Konto des Reiterbundes Lübeck.\nBitte beachtet\, dass keine eigenen Getränke mitgebracht werden dürfen. Bei Missachtung\nwird ein Korkengeld durch den Wirt erhoben.\nWir bitten um festliche Kleidung und freuen uns auf einen festlichen Abend mit euch!\nFür Rückfragen stehen wir gerne zur Verfügung.\nMit besten Grüßen\,\nEuer Reiterbund Lübeck\nKontaktadresse: Reitsport Mund\nTelefon: 0451-581331 Fax 0451-54809\nEckard Bauer\nE-Mail: Eckard.Bauer@-online.de\nKonto des Reiterbundes Lübeck\nIBAN: DE57 2305 0101 0160 5039 26\nBIC: N0LADE21SPL
URL:https://luebecker-reiterverein.de/event/reiterball-des-reiterbundes-luebeck/
LOCATION:Meilenstein Lübeck (Gemeinnützige)\, Königstr.5\, Lübeck\, Schleswig-Holstein\, 23552\, Germany
ORGANIZER;CN="Reiterbund L%C3%BCbeck":MAILTO:Eckard.Bauer@t-online.de
END:VEVENT
END:VCALENDAR