BEGIN:VCALENDAR
VERSION:2.0
PRODID:-//Lübecker Reiterverein - ECPv6.15.17//NONSGML v1.0//EN
CALSCALE:GREGORIAN
METHOD:PUBLISH
X-WR-CALNAME:Lübecker Reiterverein
X-ORIGINAL-URL:https://luebecker-reiterverein.de
X-WR-CALDESC:Veranstaltungen für Lübecker Reiterverein
REFRESH-INTERVAL;VALUE=DURATION:PT1H
X-Robots-Tag:noindex
X-PUBLISHED-TTL:PT1H
BEGIN:VTIMEZONE
TZID:Europe/Berlin
BEGIN:DAYLIGHT
TZOFFSETFROM:+0100
TZOFFSETTO:+0200
TZNAME:CEST
DTSTART:20230326T010000
END:DAYLIGHT
BEGIN:STANDARD
TZOFFSETFROM:+0200
TZOFFSETTO:+0100
TZNAME:CET
DTSTART:20231029T010000
END:STANDARD
BEGIN:DAYLIGHT
TZOFFSETFROM:+0100
TZOFFSETTO:+0200
TZNAME:CEST
DTSTART:20240331T010000
END:DAYLIGHT
BEGIN:STANDARD
TZOFFSETFROM:+0200
TZOFFSETTO:+0100
TZNAME:CET
DTSTART:20241027T010000
END:STANDARD
BEGIN:DAYLIGHT
TZOFFSETFROM:+0100
TZOFFSETTO:+0200
TZNAME:CEST
DTSTART:20250330T010000
END:DAYLIGHT
BEGIN:STANDARD
TZOFFSETFROM:+0200
TZOFFSETTO:+0100
TZNAME:CET
DTSTART:20251026T010000
END:STANDARD
END:VTIMEZONE
BEGIN:VEVENT
DTSTART;VALUE=DATE:20240821
DTEND;VALUE=DATE:20240823
DTSTAMP:20260421T115955
CREATED:20240621T101238Z
LAST-MODIFIED:20250104T114336Z
UID:2206-1724198400-1724371199@luebecker-reiterverein.de
SUMMARY:Lehrgang Gelassenheitstraining
DESCRIPTION:
URL:https://luebecker-reiterverein.de/event/lehrgang-gelassenheitstraining/
LOCATION:Schleswig-Holstein
END:VEVENT
BEGIN:VEVENT
DTSTART;VALUE=DATE:20240823
DTEND;VALUE=DATE:20240825
DTSTAMP:20260421T115955
CREATED:20240621T101328Z
LAST-MODIFIED:20250104T114318Z
UID:2208-1724371200-1724543999@luebecker-reiterverein.de
SUMMARY:Lehrgang Working Equitation
DESCRIPTION:
URL:https://luebecker-reiterverein.de/event/lehrgang-working-equitation/
LOCATION:Schleswig-Holstein
END:VEVENT
BEGIN:VEVENT
DTSTART;VALUE=DATE:20240826
DTEND;VALUE=DATE:20240901
DTSTAMP:20260421T115955
CREATED:20240621T101407Z
LAST-MODIFIED:20250104T114058Z
UID:2210-1724630400-1725148799@luebecker-reiterverein.de
SUMMARY:Reitabzeichenlehrgang
DESCRIPTION:
URL:https://luebecker-reiterverein.de/event/reitabzeichenlehrgang-2/
LOCATION:Schleswig-Holstein
END:VEVENT
END:VCALENDAR