BEGIN:VCALENDAR
VERSION:2.0
PRODID:-//Lübecker Reiterverein - ECPv6.15.17//NONSGML v1.0//EN
CALSCALE:GREGORIAN
METHOD:PUBLISH
X-ORIGINAL-URL:https://luebecker-reiterverein.de
X-WR-CALDESC:Veranstaltungen für Lübecker Reiterverein
REFRESH-INTERVAL;VALUE=DURATION:PT1H
X-Robots-Tag:noindex
X-PUBLISHED-TTL:PT1H
BEGIN:VTIMEZONE
TZID:Europe/Berlin
BEGIN:DAYLIGHT
TZOFFSETFROM:+0100
TZOFFSETTO:+0200
TZNAME:CEST
DTSTART:20230326T010000
END:DAYLIGHT
BEGIN:STANDARD
TZOFFSETFROM:+0200
TZOFFSETTO:+0100
TZNAME:CET
DTSTART:20231029T010000
END:STANDARD
BEGIN:DAYLIGHT
TZOFFSETFROM:+0100
TZOFFSETTO:+0200
TZNAME:CEST
DTSTART:20240331T010000
END:DAYLIGHT
BEGIN:STANDARD
TZOFFSETFROM:+0200
TZOFFSETTO:+0100
TZNAME:CET
DTSTART:20241027T010000
END:STANDARD
BEGIN:DAYLIGHT
TZOFFSETFROM:+0100
TZOFFSETTO:+0200
TZNAME:CEST
DTSTART:20250330T010000
END:DAYLIGHT
BEGIN:STANDARD
TZOFFSETFROM:+0200
TZOFFSETTO:+0100
TZNAME:CET
DTSTART:20251026T010000
END:STANDARD
END:VTIMEZONE
BEGIN:VEVENT
DTSTART;VALUE=DATE:20240713
DTEND;VALUE=DATE:20240715
DTSTAMP:20260421T133112
CREATED:20240822T081115Z
LAST-MODIFIED:20250104T114440Z
UID:2445-1720828800-1721001599@luebecker-reiterverein.de
SUMMARY:Zeltlager
DESCRIPTION:
URL:https://luebecker-reiterverein.de/event/zeltlager/
LOCATION:Schleswig-Holstein
END:VEVENT
BEGIN:VEVENT
DTSTART;VALUE=DATE:20240717
DTEND;VALUE=DATE:20240718
DTSTAMP:20260421T133112
CREATED:20240621T101008Z
LAST-MODIFIED:20250104T114423Z
UID:2198-1721174400-1721260799@luebecker-reiterverein.de
SUMMARY:Jahreshauptversammlung
DESCRIPTION:
URL:https://luebecker-reiterverein.de/event/jahreshauptversammlung/
LOCATION:Schleswig-Holstein
END:VEVENT
BEGIN:VEVENT
DTSTART;VALUE=DATE:20240719
DTEND;VALUE=DATE:20240720
DTSTAMP:20260421T133112
CREATED:20240621T101031Z
LAST-MODIFIED:20250104T114406Z
UID:2200-1721347200-1721433599@luebecker-reiterverein.de
SUMMARY:Jugendversammlung
DESCRIPTION:
URL:https://luebecker-reiterverein.de/event/jugendversammlung/
LOCATION:Schleswig-Holstein
END:VEVENT
BEGIN:VEVENT
DTSTART;VALUE=DATE:20240722
DTEND;VALUE=DATE:20240727
DTSTAMP:20260421T133112
CREATED:20240621T101152Z
LAST-MODIFIED:20250104T114352Z
UID:2204-1721606400-1722038399@luebecker-reiterverein.de
SUMMARY:Reitabzeichenlehrgang
DESCRIPTION:
URL:https://luebecker-reiterverein.de/event/reitabzeichenlehrgang/
LOCATION:Schleswig-Holstein
END:VEVENT
END:VCALENDAR