BEGIN:VCALENDAR
VERSION:2.0
PRODID:-//Lübecker Reiterverein - ECPv6.15.17//NONSGML v1.0//EN
CALSCALE:GREGORIAN
METHOD:PUBLISH
X-WR-CALNAME:Lübecker Reiterverein
X-ORIGINAL-URL:https://luebecker-reiterverein.de
X-WR-CALDESC:Veranstaltungen für Lübecker Reiterverein
REFRESH-INTERVAL;VALUE=DURATION:PT1H
X-Robots-Tag:noindex
X-PUBLISHED-TTL:PT1H
BEGIN:VTIMEZONE
TZID:Europe/Berlin
BEGIN:DAYLIGHT
TZOFFSETFROM:+0100
TZOFFSETTO:+0200
TZNAME:CEST
DTSTART:20240331T010000
END:DAYLIGHT
BEGIN:STANDARD
TZOFFSETFROM:+0200
TZOFFSETTO:+0100
TZNAME:CET
DTSTART:20241027T010000
END:STANDARD
BEGIN:DAYLIGHT
TZOFFSETFROM:+0100
TZOFFSETTO:+0200
TZNAME:CEST
DTSTART:20250330T010000
END:DAYLIGHT
BEGIN:STANDARD
TZOFFSETFROM:+0200
TZOFFSETTO:+0100
TZNAME:CET
DTSTART:20251026T010000
END:STANDARD
BEGIN:DAYLIGHT
TZOFFSETFROM:+0100
TZOFFSETTO:+0200
TZNAME:CEST
DTSTART:20260329T010000
END:DAYLIGHT
BEGIN:STANDARD
TZOFFSETFROM:+0200
TZOFFSETTO:+0100
TZNAME:CET
DTSTART:20261025T010000
END:STANDARD
END:VTIMEZONE
BEGIN:VEVENT
DTSTART;VALUE=DATE:20251004
DTEND;VALUE=DATE:20251006
DTSTAMP:20260421T094318
CREATED:20250828T211855Z
LAST-MODIFIED:20250828T211855Z
UID:3203-1759536000-1759708799@luebecker-reiterverein.de
SUMMARY:Dressurlehrgang mit Frank Weißenberg
DESCRIPTION:Lehrgang Frank Weißenberg 2025
URL:https://luebecker-reiterverein.de/event/dressurlehrgang-mit-frank-weissenberg/
LOCATION:Lübecker Reiterverein e.V.\, Am Rittbrook 25\, Lübeck\, Schleswig-Holstein\, 23566\, Germany
ORGANIZER;CN="L%C3%BCbecker Reiterverein":MAILTO:Kontakt@luebecker-reiterverein.de
END:VEVENT
END:VCALENDAR